Workbook

Sheet Master
A1: STELLAR CHEMICALS LTD.
A2: PROCUREMENT SPEND ANALYSIS
A3: Data for financial year.
G4: Total | H4: =SUM(H6:H142) -> 399275025
A5: Item # | B5: Decription | C5: category | D5: Critical/Non-Critical | E5: vendor | F5: Price/Unit | G5: Annual requirement | H5: Annual spend | I5: Price Level 1 | J5: Price Level 2 | K5: Price Level 3
A6: 1 | B6: Chem1 | C6: Chemicals | D6: N | E6: ABC Chemicals | F6: 3.5 | G6: 1500000 | H6: =F6*G6 -> 5250000
A7: 2 | B7: Chem2 | C7: Chemicals | D7: C | E7: Atlas Chemicals | F7: 4.25 | G7: 45000 | H7: =F7*G7 -> 191250 | J7: 1
A8: 2 | B8: Chem2 | C8: Chemicals | D8: C | E8: Universal Chemicals | F8: 3.8 | G8: 200000 | H8: =F8*G8 -> 760000 | I8: 1
A9: 3 | B9: Chem3 | C9: Chemicals | D9: N | E9: Universal Chemicals | F9: 11.95 | G9: 325000 | H9: =F9*G9 -> 3883750
A10: 4 | B10: Chem4 | C10: Chemicals | D10: N | E10: Specialty Chemicals | F10: 25.6 | G10: 1200000 | H10: =F10*G10 -> 30720000
A11: 5 | B11: Chem5 | C11: Chemicals | D11: N | E11: Star Chemicals | F11: 65.3 | G11: 35000 | H11: =F11*G11 -> 2285500
A12: 6 | B12: Chem6 | C12: Chemicals | D12: C | E12: Specialty Chemicals | F12: 29.8 | G12: 85000 | H12: =F12*G12 -> 2533000 | I12: 1
A13: 6 | B13: Chem6 | C13: Chemicals | D13: C | E13: Universal Chemicals | F13: 30.68 | G13: 15000 | H13: =F13*G13 -> 460200 | J13: 1
A14: 6 | B14: Chem6 | C14: Chemicals | D14: C | E14: Atlas Chemicals | F14: 33.15 | G14: 125000 | H14: =F14*G14 -> 4143750 | K14: 1
A15: 7 | B15: Chem7 | C15: Chemicals | D15: N | E15: ABC Chemicals | F15: 2.15 | G15: 550000 | H15: =F15*G15 -> 1182500
A16: 8 | B16: Chem8 | C16: Chemicals | D16: C | E16: Atlas Chemicals | F16: 3.05 | G16: 600000 | H16: =F16*G16 -> 1830000
A17: 9 | B17: Chem9 | C17: Chemicals | D17: N | E17: Universal Chemicals | F17: 11.95 | G17: 350000 | H17: =F17*G17 -> 4182500
A18: 10 | B18: Chem10 | C18: Chemicals | D18: N | E18: Universal Chemicals | F18: 25.6 | G18: 150000 | H18: =F18*G18 -> 3840000
A19: 11 | B19: Chem11 | C19: Chemicals | D19: N | E19: Specialty Chemicals | F19: 18.5 | G19: 2500000 | H19: =F19*G19 -> 46250000
A20: 12 | B20: Chem12 | C20: Chemicals | D20: N | E20: Star Chemicals | F20: 30.68 | G20: 350000 | H20: =F20*G20 -> 10738000
A21: 13 | B21: Chem13 | C21: Chemicals | D21: C | E21: Specialty Chemicals | F21: 1.05 | G21: 65000 | H21: =F21*G21 -> 68250
A22: 14 | B22: Chem14 | C22: Chemicals | D22: N | E22: Universal Chemicals | F22: 2.15 | G22: 25000 | H22: =F22*G22 -> 53750
A23: 15 | B23: Chem15 | C23: Chemicals | D23: N | E23: Atlas Chemicals | F23: 30.68 | G23: 31000 | H23: =F23*G23 -> 951080
A24: 16 | B24: Chem16 | C24: Chemicals | D24: N | E24: Star Chemicals | F24: 1.05 | G24: 81000 | H24: =F24*G24 -> 85050
A25: 17 | B25: Chem17 | C25: Chemicals | D25: N | E25: Specialty Chemicals | F25: 3.28 | G25: 6000 | H25: =F25*G25 -> 19680 | J25: 1
A26: 17 | B26: Chem17 | C26: Chemicals | D26: N | E26: Universal Chemicals | F26: 3.05 | G26: 36000 | H26: =F26*G26 -> 109800 | I26: 1
A27: 17 | B27: Chem17 | C27: Chemicals | D27: N | E27: Atlas Chemicals | F27: 4.05 | G27: 96000 | H27: =F27*G27 -> 388800 | K27: 1
A28: 18 | B28: Chem18 | C28: Chemicals | D28: N | E28: Universal Chemicals | F28: 25.6 | G28: 250000 | H28: =F28*G28 -> 6400000
A29: 19 | B29: Chem19 | C29: Chemicals | D29: N | E29: Universal Chemicals | F29: 11.95 | G29: 375000 | H29: =F29*G29 -> 4481250
A30: 20 | B30: Chem20 | C30: Chemicals | D30: C | E30: Specialty Chemicals | F30: 25.6 | G30: 1300000 | H30: =F30*G30 -> 33280000
A31: 21 | B31: Chem21 | C31: Chemicals | D31: N | E31: Star Chemicals | F31: 18.5 | G31: 65000 | H31: =F31*G31 -> 1202500
A32: 22 | B32: Chem22 | C32: Chemicals | D32: N | E32: Specialty Chemicals | F32: 30.68 | G32: 15000 | H32: =F32*G32 -> 460200 | J32: 1
A33: 22 | B33: Chem22 | C33: Chemicals | D33: N | E33: Universal Chemicals | F33: 33.65 | G33: 20000 | H33: =F33*G33 -> 673000 | I33: 1
A34: 22 | B34: Chem22 | C34: Chemicals | D34: N | E34: Atlas Chemicals | F34: 29.95 | G34: 116000 | H34: =F34*G34 -> 3474200 | K34: 1
A35: 23 | B35: Chem23 | C35: Chemicals | D35: N | E35: Star Chemicals | F35: 30.68 | G35: 225000 | H35: =F35*G35 -> 6903000
A36: 24 | B36: Chem24 | C36: Chemicals | D36: N | E36: ABC Chemicals | F36: 1.05 | G36: 215000 | H36: =F36*G36 -> 225750
A37: 25 | B37: Chem25 | C37: Chemicals | D37: N | E37: Atlas Chemicals | F37: 2.15 | G37: 220000 | H37: =F37*G37 -> 473000
A38: 26 | B38: Chem26 | C38: Chemicals | D38: N | E38: Universal Chemicals | F38: 12.15 | G38: 16000 | H38: =F38*G38 -> 194400 | J38: 1
A39: 26 | B39: Chem26 | C39: Chemicals | D39: N | E39: Star Chemicals | F39: 11.95 | G39: 100000 | H39: =F39*G39 -> 1195000 | I39: 1
A40: 26 | B40: Chem26 | C40: Chemicals | D40: N | E40: Specialty Chemicals | F40: 13.1 | G40: 80000 | H40: =F40*G40 -> 1048000 | K40: 1
A41: 28 | B41: Chem28 | C41: Chemicals | D41: N | E41: Star Chemicals | F41: 2.15 | G41: 115000 | H41: =F41*G41 -> 247250
A42: 29 | B42: Chem29 | C42: Chemicals | D42: N | E42: Specialty Chemicals | F42: 1.15 | G42: 25000 | H42: =F42*G42 -> 28750 | J42: 1
A43: 29 | B43: Chem29 | C43: Chemicals | D43: C | E43: Universal Chemicals | F43: 1.05 | G43: 25000 | H43: =F43*G43 -> 26250 | I43: 1
A44: 29 | B44: Chem29 | C44: Chemicals | D44: C | E44: Atlas Chemicals | F44: 1.35 | G44: 30000 | H44: =F44*G44 -> 40500 | K44: 1
A45: 29 | B45: Chem29 | C45: Chemicals | D45: C | E45: ABC Chemicals | F45: 1.18 | G45: 35000 | H45: =F45*G45 -> 41300
A46: 30 | B46: Chem30 | C46: Chemicals | D46: N | E46: Atlas Chemicals | F46: 11.95 | G46: 118000 | H46: =F46*G46 -> 1410100
A47: 31 | B47: Chem31 | C47: Chemicals | D47: N | E47: Universal Chemicals | F47: 30.68 | G47: 60000 | H47: =F47*G47 -> 1840800
A48: 32 | B48: Chem32 | C48: Chemicals | D48: N | E48: Universal Chemicals | F48: 1.05 | G48: 65000 | H48: =F48*G48 -> 68250
A49: 33 | B49: Chem33 | C49: Chemicals | D49: N | E49: Specialty Chemicals | F49: 2.85 | G49: 475000 | H49: =F49*G49 -> 1353750 | I49: 1
A50: 33 | B50: Chem33 | C50: Chemicals | D50: N | E50: Star Chemicals | F50: 3.05 | G50: 135000 | H50: =F50*G50 -> 411750 | J50: 1
A51: 34 | B51: Chem34 | C51: Chemicals | D51: N | E51: Specialty Chemicals | F51: 11.95 | G51: 1120000 | H51: =F51*G51 -> 13384000
A52: 35 | B52: Chem35 | C52: Chemicals | D52: N | E52: Universal Chemicals | F52: 25.6 | G52: 85000 | H52: =F52*G52 -> 2176000
A53: 36 | B53: Chem36 | C53: Chemicals | D53: N | E53: Atlas Chemicals | F53: 2.15 | G53: 95000 | H53: =F53*G53 -> 204250
A54: 37 | B54: Chem37 | C54: Chemicals | D54: N | E54: Star Chemicals | F54: 30.68 | G54: 1120000 | H54: =F54*G54 -> 34361600
A55: 38 | B55: Chem38 | C55: Chemicals | D55: N | E55: Specialty Chemicals | F55: 1.05 | G55: 85000 | H55: =F55*G55 -> 89250
A56: 39 | B56: Chem39 | C56: Chemicals | D56: C | E56: Universal Chemicals | F56: 2.15 | G56: 95000 | H56: =F56*G56 -> 204250
A57: 40 | B57: Chem40 | C57: Chemicals | D57: N | E57: Atlas Chemicals | F57: 2.95 | G57: 85000 | H57: =F57*G57 -> 250750 | I57: 1
A58: 40 | B58: Chem40 | C58: Chemicals | D58: N | E58: Universal Chemicals | F58: 3.05 | G58: 325000 | H58: =F58*G58 -> 991250
A59: 40 | B59: Chem40 | C59: Chemicals | D59: N | E59: Specialty Chemicals | F59: 3.15 | G59: 15000 | H59: =F59*G59 -> 47250 | K59: 1
A60: 41 | B60: Chem41 | C60: Chemicals | D60: N | E60: Universal Chemicals | F60: 25.6 | G60: 118000 | H60: =F60*G60 -> 3020800
A61: 42 | B61: Chem42 | C61: Chemicals | D61: N | E61: Atlas Chemicals | F61: 2.15 | G61: 60000 | H61: =F61*G61 -> 129000
A62: 43 | B62: Chem43 | C62: Chemicals | D62: N | E62: Star Chemicals | F62: 30.68 | G62: 65000 | H62: =F62*G62 -> 1994200
A63: 44 | B63: Chem44 | C63: Chemicals | D63: N | E63: ABC Chemicals | F63: 1.05 | G63: 475000 | H63: =F63*G63 -> 498750
A64: 45 | B64: Chem45 | C64: Chemicals | D64: N | E64: Atlas Chemicals | F64: 2.15 | G64: 85000 | H64: =F64*G64 -> 182750
A65: 46 | B65: Chem46 | C65: Chemicals | D65: N | E65: Universal Chemicals | F65: 3.05 | G65: 325000 | H65: =F65*G65 -> 991250
A66: 47 | B66: Chem47 | C66: Chemicals | D66: N | E66: Universal Chemicals | F66: 11.95 | G66: 15000 | H66: =F66*G66 -> 179250
A67: 48 | B67: Chem48 | C67: Chemicals | D67: N | E67: Specialty Chemicals | F67: 30.68 | G67: 118000 | H67: =F67*G67 -> 3620240
A68: 49 | B68: Chem49 | C68: Chemicals | D68: C | E68: Star Chemicals | F68: 2.25 | G68: 15000 | H68: =F68*G68 -> 33750 | K68: 1
A69: 49 | B69: Chem49 | C69: Chemicals | D69: N | E69: Specialty Chemicals | F69: 2.15 | G69: 118000 | H69: =F69*G69 -> 253700 | J69: 1
A70: 49 | B70: Chem49 | C70: Chemicals | D70: N | E70: Universal Chemicals | F70: 2.05 | G70: 60000 | H70: =F70*G70 -> 123000 | I70: 1
A71: 50 | B71: Chem50 | C71: Chemicals | D71: C | E71: Atlas Chemicals | F71: 11.95 | G71: 65000 | H71: =F71*G71 -> 776750
A72: 51 | B72: Chem51 | C72: Chemicals | D72: N | E72: ABC Chemicals | F72: 2.15 | G72: 475000 | H72: =F72*G72 -> 1021250
A73: 52 | B73: Chem52 | C73: Chemicals | D73: N | E73: Atlas Chemicals | F73: 30.68 | G73: 85000 | H73: =F73*G73 -> 2607800
A74: 53 | B74: Chem53 | C74: Chemicals | D74: C | E74: Universal Chemicals | F74: 1.05 | G74: 325000 | H74: =F74*G74 -> 341250
A75: 54 | B75: Chem54 | C75: Chemicals | D75: N | E75: Specialty Chemicals | F75: 2.15 | G75: 15000 | H75: =F75*G75 -> 32250
A76: 55 | B76: Chem55 | C76: Chemicals | D76: N | E76: Universal Chemicals | F76: 3.05 | G76: 118000 | H76: =F76*G76 -> 359900
A77: 56 | B77: Chem56 | C77: Chemicals | D77: C | E77: Atlas Chemicals | F77: 11.95 | G77: 15000 | H77: =F77*G77 -> 179250
A78: 57 | B78: Chem57 | C78: Chemicals | D78: N | E78: Star Chemicals | F78: 30.68 | G78: 118000 | H78: =F78*G78 -> 3620240
A79: 58 | B79: Chem58 | C79: Chemicals | D79: N | E79: Specialty Chemicals | F79: 1.05 | G79: 60000 | H79: =F79*G79 -> 63000
A80: 59 | B80: Chem59 | C80: Chemicals | D80: N | E80: Universal Chemicals | F80: 2.15 | G80: 60000 | H80: =F80*G80 -> 129000
A81: 60 | B81: Chem60 | C81: Chemicals | D81: N | E81: Atlas Chemicals | F81: 3.05 | G81: 65000 | H81: =F81*G81 -> 198250
A82: 61 | B82: Chem61 | C82: Chemicals | D82: N | E82: Universal Chemicals | F82: 11.95 | G82: 475000 | H82: =F82*G82 -> 5676250
... A142: 100 | B142: CORRUGCTN10 | C142: Corrugated Cartons | D142: N | E142: Corruworld | F142: 2.85 | G142: 120000 | H142: =F142*G142 -> 342000

Sheet Spend by vendor
A1: SPEND ANALYSIS
A3: Row Labels | B3: Sum of Annual spend
A4: Specialty Chemicals | B4: 133251320
A5: cleartainer | B5: 73000000
A6: Star Chemicals | B6: 63077840
A7: Glasspac | B7: 52442500
A8: Universal Chemicals | B8: 41255400
A9: Atlas Chemicals | B9: 17431480
A10: ABC Chemicals | B10: 8219550
A11: Fine Filters | B11: 2333240
A12: Corruworld | B12: 2040030
A13: Filtrite | B13: 1980590
A14: ScreenCo | B14: 1609010
A15: ProMesh | B15: 1126515
... A18: Grand Total | B18: 399275025
A20: Questions:
A21: Do prices from Specialty Chemicals reflect volume buying discount?
A22: Do vendor performance ratings align with the respective spend?

Sheet Mat by Vendor
A3: Row Labels | B3: Count of vendor
A4: Chem1 | B4: 1
A5: Chem10 | B5: 1
A6: Chem11 | B6: 1
A7: Chem12 | B7: 1
A8: Chem13 | B8: 1
A9: Chem14 | B9: 1
A10: Chem15 | B10: 1
A11: Chem16 | B11: 1
A12: Chem17 | B12: 3
A13: Chem18 | B13: 1
A14: Chem19 | B14: 1
A15: Chem2 | B15: 2
... A103: Grand Total | B103: 137

Sheet Vendor by mat
A3: Row Labels | B3: Count of Item #
A4: ABC Chemicals | B4: 6
A5: Atlas Chemicals | B5: 17
A6: cleartainer | B6: 11
A7: Corrugreat | B7: 4
A8: Corruworld | B8: 7
A9: Filtrite | B9: 10
A10: Fine Filters | B10: 8
A11: Glasspac | B11: 7
A12: Packship | B12: 3
A13: ProMesh | B13: 4
A14: ScreenCo | B14: 5
A15: Specialty Chemicals | B15: 17
... A18: Grand Total | B18: 137

Sheet Vendor pricing
A1: Vendor price comparison for items bought from more than one vendors.
A3: Row Labels | B3: Count of Price Level 1 | C3: Count of Price Level 2 | D3: Count of Price Level 3
A4: ABC Chemicals
A5: Atlas Chemicals | B5: 1 | C5: 1 | D5: 4 | E5: (1)
A6: cleartainer
A7: Corrugreat
A8: Corruworld
A9: Filtrite
A10: Fine Filters
A11: Glasspac
A12: Packship
A13: ProMesh
A14: ScreenCo
A15: Specialty Chemicals | B15: 2 | C15: 4 | D15: 2 | E15: (2)
A16: Star Chemicals | B16: 1 | C16: 1 | D16: 1 | E16: (3)
A17: Universal Chemicals | B17: 5 | C17: 2 | E17: (5)
A18: Grand Total | B18: 9 | C18: 8 | D18: 7
A20: Explanation:
A21: Vendor pricing comparison is used where one materials is purchased from more than one vendors due to strategic reasons,
A22: sucha as having a back-up supplier for critical materials, large volume requirements difficult to be supplied by one vendor, etc.
A23: Since different vendors may have different prices for the same or similar material, the buyer need to assess which vendors
A24: materials tend to be in the lower bracket and which ones in the higher bracket. This helps the buyer to determine the volumes
A25: to be allocated to each vendor to achieve the optimum overall price while meeting the strategic objective of having back-up vendors.
A27: (1): 4 out of 6 items purchased from Atlas Chemicals are in the highest price bracket, which calls for a review to find alternate sources with lower price.
A28: (2): Specialty Chemicals pricing is more evenly disributed over the pricing levels.
A29: (3): Star Chemical's supplies are also priced evenly through the pricing levels.
A30: (4): 5 out of 7 items supplied by Universal Chemicals are in the lowest price bracket, 2 in the middle and none in the highest bracket.

Sheet CMM
A1: Critical Materials Management
A4: Total Items Purchased | B4: 111 | D4: Comments
A5: Critical items | B5: 26
A6: Critical items with more than one vendors | B6: 9 | C6: =B6/B5 -> 0.34615385 | D6: Less than recommended 95%
A7: No. of items bought from more than 1 vendors | B7: 9 | C7: =B7/B4 -> 0.081081081 | D7: Less than recommended 25%

Sheet Spend Auth
A1: Spend Authorization
A3: Spend Category | B3: Amount | C3: % | D3: Comments
A4: MRP: COGS | B4: 2.9147077e+08 | C4: =B4/Master!$H$4 -> 0.73
A5: MRP: Non-COGS | B5: 59891254 | C5: =B5/Master!$H$4 -> 0.15
A6: Spot Purchasing Cash | B6: 3992750.2 | C6: =B6/Master!$H$4 -> 0.01
A7: Spot Purchasing Credit Card | B7: 11978251 | C7: =B7/Master!$H$4 -> 0.03
A8: Maverick Buying (post-purchase auhoirzation) | B8: 31942002 | C8: =B8/Master!$H$4 -> 0.08 | D8: Exceeds maverick buying limit of 5%
